BEGIN:VCALENDAR
VERSION:2.0
PRODID:-//Eberstädter Bürgerverein von 1980 e.V. - ECPv6.15.20//NONSGML v1.0//EN
CALSCALE:GREGORIAN
METHOD:PUBLISH
X-WR-CALNAME:Eberstädter Bürgerverein von 1980 e.V.
X-ORIGINAL-URL:https://www.eberstaedter-buergerverein.de
X-WR-CALDESC:Veranstaltungen für Eberstädter Bürgerverein von 1980 e.V.
REFRESH-INTERVAL;VALUE=DURATION:PT1H
X-Robots-Tag:noindex
X-PUBLISHED-TTL:PT1H
BEGIN:VTIMEZONE
TZID:Europe/Berlin
BEGIN:DAYLIGHT
TZOFFSETFROM:+0100
TZOFFSETTO:+0200
TZNAME:CEST
DTSTART:20250330T010000
END:DAYLIGHT
BEGIN:STANDARD
TZOFFSETFROM:+0200
TZOFFSETTO:+0100
TZNAME:CET
DTSTART:20251026T010000
END:STANDARD
BEGIN:DAYLIGHT
TZOFFSETFROM:+0100
TZOFFSETTO:+0200
TZNAME:CEST
DTSTART:20260329T010000
END:DAYLIGHT
BEGIN:STANDARD
TZOFFSETFROM:+0200
TZOFFSETTO:+0100
TZNAME:CET
DTSTART:20261025T010000
END:STANDARD
BEGIN:DAYLIGHT
TZOFFSETFROM:+0100
TZOFFSETTO:+0200
TZNAME:CEST
DTSTART:20270328T010000
END:DAYLIGHT
BEGIN:STANDARD
TZOFFSETFROM:+0200
TZOFFSETTO:+0100
TZNAME:CET
DTSTART:20271031T010000
END:STANDARD
END:VTIMEZONE
BEGIN:VEVENT
DTSTART;TZID=Europe/Berlin:20260502T100000
DTEND;TZID=Europe/Berlin:20260503T180000
DTSTAMP:20260424T183350
CREATED:20251120T193346Z
LAST-MODIFIED:20260414T212854Z
UID:969-1777716000-1777831200@www.eberstaedter-buergerverein.de
SUMMARY:1. Eberstädter Kunst- & Antiquitätentage
DESCRIPTION:  \nAm 2. & 3. Mai finden die ersten Eberstädter Kunst- und Antiquitätentage in der Geibel´schen Schmiede statt. \nWer sich für Kunst\, antiken Schmuck\, Silberwaren\, Briefmarken und Münzen sowie antiquarische Bücher begeistern kann\, kommt hier sicher auf seine Kosten. Auch allerhand Kurioses wird zu finden sein. Gemälde und Zeichnungen namhafter Darmstädter Künstler\, wie von Carl Gunschmann und Wilhelm Loth\, über Eberhard Schlotter bis Daniel Greiner sind für den Kunstbegeisterten sicher einen Besuch wert. \nEs wird ein Rahmenprogramm mit einem interessanten Vortrag und kostenlose Schätzungen von mitgebrachten Münzen\, Schmuck  und Büchern geben. In der historischen Schmiede kann man mitgebrachte Messer schleifen lassen \nAuch für das leibliche Wohl ist gesorgt. \nHaben Sie Interesse an einem Stand oder wünschen Sie weitere Informationen melden Sie sich gerne unter info@e-bv.info.
URL:https://www.eberstaedter-buergerverein.de/veranstaltung/1-eberstaedter-kunst-antiquitaetenmarkt/
LOCATION:Geibelsche Schmiede\, Oberstraße 20\, Darmstadt\, 64297\, Germany
END:VEVENT
BEGIN:VEVENT
DTSTART;TZID=Europe/Berlin:20260523T100000
DTEND;TZID=Europe/Berlin:20260523T150000
DTSTAMP:20260424T183350
CREATED:20251120T165650Z
LAST-MODIFIED:20251120T165650Z
UID:930-1779530400-1779548400@www.eberstaedter-buergerverein.de
SUMMARY:Backtag Mai
DESCRIPTION:In Eberstadt finden einmal im Monat Backtage für Groß und Klein statt. Alle Besucher/Innen können ihren Teig für Brot\, Brötchen\, Pizza\, Kuchen und andere Leckereien mitbringen und im holzbefeuerten Lehmofen backen. Der Backtag startet um 10 Uhr mit dem Anfeuern des Ofens und den Vorbereitungen. Gegen 12 Uhr wird die Glut zur Seite geschoben und im Ofen kann Pizza und Flammkuchen gebacken werden. Um 13 Uhr hat der Ofen die entsprechende Temperatur erreicht\, Glut und Asche werden entfernt und die Brote können eingeschoben werden. Nach ca. einer Stunde ist das Brot fertig und der Kuchen ist an der Reihe. Um ca. 15 Uhr endet der Backtag. \nDie Leckereien können direkt vor Ort im gemütlichen Garten oder in der überdachten Scheune verzehrt werden. Getränke werden gegen Bezahlung angeboten. Die verschiedenen Teige und Belage sind von den Besucher/Innen mitzubringen. Die Backes-Gruppe wird aber auch zusätzlich Pizzen bzw. Flammkuchen anbieten. \nDie Teilnahme am Backtag ist kostenfrei. Eine Spendenbox steht bereit. Weitere Infos sind unter backes@e-bv.info erhältlich.
URL:https://www.eberstaedter-buergerverein.de/veranstaltung/backtag-mai/
LOCATION:Geibelsche Schmiede\, Oberstraße 20\, Darmstadt\, 64297\, Germany
END:VEVENT
END:VCALENDAR