BEGIN:VCALENDAR
VERSION:2.0
PRODID:-//Eberstädter Bürgerverein von 1980 e.V. - ECPv6.15.20//NONSGML v1.0//EN
CALSCALE:GREGORIAN
METHOD:PUBLISH
X-WR-CALNAME:Eberstädter Bürgerverein von 1980 e.V.
X-ORIGINAL-URL:https://www.eberstaedter-buergerverein.de
X-WR-CALDESC:Veranstaltungen für Eberstädter Bürgerverein von 1980 e.V.
REFRESH-INTERVAL;VALUE=DURATION:PT1H
X-Robots-Tag:noindex
X-PUBLISHED-TTL:PT1H
BEGIN:VTIMEZONE
TZID:Europe/Berlin
BEGIN:DAYLIGHT
TZOFFSETFROM:+0100
TZOFFSETTO:+0200
TZNAME:CEST
DTSTART:20230326T010000
END:DAYLIGHT
BEGIN:STANDARD
TZOFFSETFROM:+0200
TZOFFSETTO:+0100
TZNAME:CET
DTSTART:20231029T010000
END:STANDARD
BEGIN:DAYLIGHT
TZOFFSETFROM:+0100
TZOFFSETTO:+0200
TZNAME:CEST
DTSTART:20240331T010000
END:DAYLIGHT
BEGIN:STANDARD
TZOFFSETFROM:+0200
TZOFFSETTO:+0100
TZNAME:CET
DTSTART:20241027T010000
END:STANDARD
BEGIN:DAYLIGHT
TZOFFSETFROM:+0100
TZOFFSETTO:+0200
TZNAME:CEST
DTSTART:20250330T010000
END:DAYLIGHT
BEGIN:STANDARD
TZOFFSETFROM:+0200
TZOFFSETTO:+0100
TZNAME:CET
DTSTART:20251026T010000
END:STANDARD
END:VTIMEZONE
BEGIN:VEVENT
DTSTART;TZID=Europe/Berlin:20241130T000000
DTEND;TZID=Europe/Berlin:20241201T235959
DTSTAMP:20260425T191745
CREATED:20241009T084017Z
LAST-MODIFIED:20241104T140640Z
UID:697-1732924800-1733097599@www.eberstaedter-buergerverein.de
SUMMARY:Kunstmarkt mit Weihnachtsdorf
DESCRIPTION:Kunstmarkt und Weihnachtsdorf laden in der Geibel’schen Schmiede in Eberstadt zum Verweilen ein\n \nAuch in diesem Jahr laden der Kunstmarkt und das Weihnachtsdorf in der Geibel´schen Schmiede in Eberstadt\, der Heimat des Eberstädter Bürgervereins von 1980 e.V.\, zum Verweilen ein. An allen vier Adventswochenenden öffnet sich das große Hoftor in der Oberstraße 20 von 15 bis 20 Uhr und bietet den großen und kleinen Besuchern die Möglichkeit die vorweihnachtliche Stimmung in vollen Zügen zu genießen. Wer den Kunstmarkt aus den Vorjahren kennt entdeckt viel Altbewährtes wie ein abwechslungsreiches Angebot verschiedener Künstler und Aussteller immer Innen- und Außenbereich sowie den wohlschmeckenden roten und weißen Winzerglühwein. Der Weinkeller der Arbeitsgruppe Weingärtner öffnet seine Pforten und selbstgebackene Kuchen laden in einem kleinen Café im alten Wohnhaus zu einer Verschnaufpause ein. Der Garten verwandelt sich in diesem Jahr wieder in ein Weihnachtsdorf der besonderen Art und bietet neben verschiedenen künstlerischen Angeboten auch kulinarische Genüsse. Im Backhaus können am 7. und 14. Dezember Lebkuchen gebacken werden und auch das Schmiedefeuer wird brennen.  Wie bereits im letzten Jahr hat der Nikolaus  wieder seinen Besuch angekündigt. \nDie Organisatoren des Eberstädter Bürgervereins von 1980 e.V. freuen sich darauf zahlreiche Besucher begrüßen zu dürfen. Ein Besuch lohnt sich auf jeden Fall!
URL:https://www.eberstaedter-buergerverein.de/veranstaltung/kunstmarkt-mit-weihnachtsdorf/
LOCATION:Geibelsche Schmiede\, Oberstraße 20\, Darmstadt\, 64297\, Germany
ATTACH;FMTTYPE=image/jpeg:https://www.eberstaedter-buergerverein.de/wp-content/uploads/2024/10/20241020_211135-1.jpg
END:VEVENT
BEGIN:VEVENT
DTSTART;TZID=Europe/Berlin:20241207T000000
DTEND;TZID=Europe/Berlin:20241208T235959
DTSTAMP:20260425T191745
CREATED:20241009T084313Z
LAST-MODIFIED:20241104T140715Z
UID:699-1733529600-1733702399@www.eberstaedter-buergerverein.de
SUMMARY:Kunstmarkt mit Weihnachtsdorf
DESCRIPTION:Kunstmarkt und Weihnachtsdorf laden in der Geibel’schen Schmiede in Eberstadt zum Verweilen ein\n \nAuch in diesem Jahr laden der Kunstmarkt und das Weihnachtsdorf in der Geibel´schen Schmiede in Eberstadt\, der Heimat des Eberstädter Bürgervereins von 1980 e.V.\, zum Verweilen ein. An allen vier Adventswochenenden öffnet sich das große Hoftor in der Oberstraße 20 von 15 bis 20 Uhr und bietet den großen und kleinen Besuchern die Möglichkeit die vorweihnachtliche Stimmung in vollen Zügen zu genießen. Wer den Kunstmarkt aus den Vorjahren kennt entdeckt viel Altbewährtes wie ein abwechslungsreiches Angebot verschiedener Künstler und Aussteller immer Innen- und Außenbereich sowie den wohlschmeckenden roten und weißen Winzerglühwein. Der Weinkeller der Arbeitsgruppe Weingärtner öffnet seine Pforten und selbstgebackene Kuchen laden in einem kleinen Café im alten Wohnhaus zu einer Verschnaufpause ein. Der Garten verwandelt sich in diesem Jahr wieder in ein Weihnachtsdorf der besonderen Art und bietet neben verschiedenen künstlerischen Angeboten auch kulinarische Genüsse. Im Backhaus können am 7. und 14. Dezember Lebkuchen gebacken werden und auch das Schmiedefeuer wird brennen.  Wie bereits im letzten Jahr hat der Nikolaus  wieder seinen Besuch angekündigt. \nDie Organisatoren des Eberstädter Bürgervereins von 1980 e.V. freuen sich darauf zahlreiche Besucher begrüßen zu dürfen. Ein Besuch lohnt sich auf jeden Fall!
URL:https://www.eberstaedter-buergerverein.de/veranstaltung/kunstmarkt-mit-weihnachtsdorf-2/
LOCATION:Geibelsche Schmiede\, Oberstraße 20\, Darmstadt\, 64297\, Germany
END:VEVENT
BEGIN:VEVENT
DTSTART;TZID=Europe/Berlin:20241214T000000
DTEND;TZID=Europe/Berlin:20241215T235959
DTSTAMP:20260425T191745
CREATED:20241009T084400Z
LAST-MODIFIED:20241104T140724Z
UID:701-1734134400-1734307199@www.eberstaedter-buergerverein.de
SUMMARY:Kunstmarkt mit Weihnachtsdorf
DESCRIPTION:Kunstmarkt und Weihnachtsdorf laden in der Geibel’schen Schmiede in Eberstadt zum Verweilen ein\n \nAuch in diesem Jahr laden der Kunstmarkt und das Weihnachtsdorf in der Geibel´schen Schmiede in Eberstadt\, der Heimat des Eberstädter Bürgervereins von 1980 e.V.\, zum Verweilen ein. An allen vier Adventswochenenden öffnet sich das große Hoftor in der Oberstraße 20 von 15 bis 20 Uhr und bietet den großen und kleinen Besuchern die Möglichkeit die vorweihnachtliche Stimmung in vollen Zügen zu genießen. Wer den Kunstmarkt aus den Vorjahren kennt entdeckt viel Altbewährtes wie ein abwechslungsreiches Angebot verschiedener Künstler und Aussteller immer Innen- und Außenbereich sowie den wohlschmeckenden roten und weißen Winzerglühwein. Der Weinkeller der Arbeitsgruppe Weingärtner öffnet seine Pforten und selbstgebackene Kuchen laden in einem kleinen Café im alten Wohnhaus zu einer Verschnaufpause ein. Der Garten verwandelt sich in diesem Jahr wieder in ein Weihnachtsdorf der besonderen Art und bietet neben verschiedenen künstlerischen Angeboten auch kulinarische Genüsse. Im Backhaus können am 7. und 14. Dezember Lebkuchen gebacken werden und auch das Schmiedefeuer wird brennen.  Wie bereits im letzten Jahr hat der Nikolaus  wieder seinen Besuch angekündigt. \nDie Organisatoren des Eberstädter Bürgervereins von 1980 e.V. freuen sich darauf zahlreiche Besucher begrüßen zu dürfen. Ein Besuch lohnt sich auf jeden Fall!
URL:https://www.eberstaedter-buergerverein.de/veranstaltung/kunstmarkt-mit-weihnachtsdorf-3/
LOCATION:Geibelsche Schmiede\, Oberstraße 20\, Darmstadt\, 64297\, Germany
END:VEVENT
BEGIN:VEVENT
DTSTART;TZID=Europe/Berlin:20241221T000000
DTEND;TZID=Europe/Berlin:20241222T235959
DTSTAMP:20260425T191745
CREATED:20241009T084500Z
LAST-MODIFIED:20241104T140732Z
UID:703-1734739200-1734911999@www.eberstaedter-buergerverein.de
SUMMARY:Kunstmarkt mit Weihnachtsdorf
DESCRIPTION:Kunstmarkt und Weihnachtsdorf laden in der Geibel’schen Schmiede in Eberstadt zum Verweilen ein\n \nAuch in diesem Jahr laden der Kunstmarkt und das Weihnachtsdorf in der Geibel´schen Schmiede in Eberstadt\, der Heimat des Eberstädter Bürgervereins von 1980 e.V.\, zum Verweilen ein. An allen vier Adventswochenenden öffnet sich das große Hoftor in der Oberstraße 20 von 15 bis 20 Uhr und bietet den großen und kleinen Besuchern die Möglichkeit die vorweihnachtliche Stimmung in vollen Zügen zu genießen. Wer den Kunstmarkt aus den Vorjahren kennt entdeckt viel Altbewährtes wie ein abwechslungsreiches Angebot verschiedener Künstler und Aussteller immer Innen- und Außenbereich sowie den wohlschmeckenden roten und weißen Winzerglühwein. Der Weinkeller der Arbeitsgruppe Weingärtner öffnet seine Pforten und selbstgebackene Kuchen laden in einem kleinen Café im alten Wohnhaus zu einer Verschnaufpause ein. Der Garten verwandelt sich in diesem Jahr wieder in ein Weihnachtsdorf der besonderen Art und bietet neben verschiedenen künstlerischen Angeboten auch kulinarische Genüsse. Im Backhaus können am 7. und 14. Dezember Lebkuchen gebacken werden und auch das Schmiedefeuer wird brennen.  Wie bereits im letzten Jahr hat der Nikolaus  wieder seinen Besuch angekündigt. \nDie Organisatoren des Eberstädter Bürgervereins von 1980 e.V. freuen sich darauf zahlreiche Besucher begrüßen zu dürfen. Ein Besuch lohnt sich auf jeden Fall!
URL:https://www.eberstaedter-buergerverein.de/veranstaltung/kunstmarkt-mit-weihnachtsdorf-4/
LOCATION:Geibelsche Schmiede\, Oberstraße 20\, Darmstadt\, 64297\, Germany
END:VEVENT
END:VCALENDAR