BEGIN:VCALENDAR
VERSION:2.0
PRODID:-//Eberstädter Bürgerverein von 1980 e.V. - ECPv6.15.20//NONSGML v1.0//EN
CALSCALE:GREGORIAN
METHOD:PUBLISH
X-ORIGINAL-URL:https://www.eberstaedter-buergerverein.de
X-WR-CALDESC:Veranstaltungen für Eberstädter Bürgerverein von 1980 e.V.
REFRESH-INTERVAL;VALUE=DURATION:PT1H
X-Robots-Tag:noindex
X-PUBLISHED-TTL:PT1H
BEGIN:VTIMEZONE
TZID:Europe/Berlin
BEGIN:DAYLIGHT
TZOFFSETFROM:+0100
TZOFFSETTO:+0200
TZNAME:CEST
DTSTART:20230326T010000
END:DAYLIGHT
BEGIN:STANDARD
TZOFFSETFROM:+0200
TZOFFSETTO:+0100
TZNAME:CET
DTSTART:20231029T010000
END:STANDARD
BEGIN:DAYLIGHT
TZOFFSETFROM:+0100
TZOFFSETTO:+0200
TZNAME:CEST
DTSTART:20240331T010000
END:DAYLIGHT
BEGIN:STANDARD
TZOFFSETFROM:+0200
TZOFFSETTO:+0100
TZNAME:CET
DTSTART:20241027T010000
END:STANDARD
BEGIN:DAYLIGHT
TZOFFSETFROM:+0100
TZOFFSETTO:+0200
TZNAME:CEST
DTSTART:20250330T010000
END:DAYLIGHT
BEGIN:STANDARD
TZOFFSETFROM:+0200
TZOFFSETTO:+0100
TZNAME:CET
DTSTART:20251026T010000
END:STANDARD
END:VTIMEZONE
BEGIN:VEVENT
DTSTART;TZID=Europe/Berlin:20241109T203000
DTEND;TZID=Europe/Berlin:20241110T000000
DTSTAMP:20260425T204800
CREATED:20241009T083343Z
LAST-MODIFIED:20241022T123642Z
UID:694-1731184200-1731196800@www.eberstaedter-buergerverein.de
SUMMARY:Musik in der Schmiede mit der Band Endorphine (Rock-Cover)
DESCRIPTION:Unter dem Motto „Musik in der Schmiede“ lädt der Eberstädter Bürgerverein von 1980 e.V. am 9. November 2024 erneut zu musikalischen Klängen in die Geibel´sche Schmiede ein. \nDie Band „Endorphine“ steht für kräftige Rock-Cover-Klänge. Sie stehen mit 7 Frau und Mann gemeinsam auf der Bühne  und spielen Rock und Pop von den 70ern bis heute. \nIn Eberstadt wird es ein Konzert der besonderen Art vor kleinem Publikum. Gleichzeitig dient der Auftritt dem Dreh eines Promotionvideos und die Gäste des Konzert sind live dabei. \nDas Konzert findet in der Geibel´schen Schmiede\, Oberstraße 20 in Darmstadt-Eberstadt statt. Beginn ist um 20:30 Uhr\, Einlass ab 19:30 Uhr. \nDie Eintrittskarten kosten 10 € und sind im Vorverkauf online unter info@e-bv.info reservierbar. Falls noch ausreichend Karten vorhanden sind können sie auch an der Abendkasse erworben werden. \n  \nText: Melanie Müller\nBild: Band „Endorphine“
URL:https://www.eberstaedter-buergerverein.de/veranstaltung/musik-in-der-schmiede-mit-der-band-endorphine-rock-cover/
LOCATION:Geibelsche Schmiede\, Oberstraße 20\, Darmstadt\, 64297\, Germany
ATTACH;FMTTYPE=image/jpeg:https://www.eberstaedter-buergerverein.de/wp-content/uploads/2024/10/Band_2024_01.jpg
END:VEVENT
BEGIN:VEVENT
DTSTART;TZID=Europe/Berlin:20241123T100000
DTEND;TZID=Europe/Berlin:20241123T150000
DTSTAMP:20260425T204800
CREATED:20240920T091321Z
LAST-MODIFIED:20240920T091321Z
UID:690-1732356000-1732374000@www.eberstaedter-buergerverein.de
SUMMARY:Backtag November
DESCRIPTION:In Eberstadt finden einmal im Monat Backtage für Groß und Klein statt. Alle Besucher/Innen können ihren Teig für Brot\, Brötchen\, Pizza\, Kuchen und andere Leckereien mitbringen und im holzbefeuerten Lehmofen backen. Der Backtag startet um 10 Uhr mit dem Anfeuern des Ofens und den Vorbereitungen. Gegen 12 Uhr wird die Glut zur Seite geschoben und im Ofen kann Pizza und Flammkuchen gebacken werden. Um 13 Uhr hat der Ofen die entsprechende Temperatur erreicht\, Glut und Asche werden entfernt und die Brote können eingeschoben werden. Nach ca. einer Stunde ist das Brot fertig und der Kuchen ist an der Reihe. Um ca. 15 Uhr endet der Backtag. \nDie Leckereien können direkt vor Ort im gemütlichen Garten oder in der überdachten Scheune verzehrt werden. Getränke werden gegen Bezahlung angeboten. Die verschiedenen Teige und Belage sind von den Besucher/Innen mitzubringen. Die Backes-Gruppe wird aber auch zusätzlich Pizzen bzw. Flammkuchen anbieten. \nDie Teilnahme am Backtag ist kostenfrei. Eine Spendenbox steht bereit. Weitere Infos sind unter backes@e-bv.info erhältlich.
URL:https://www.eberstaedter-buergerverein.de/veranstaltung/backtag-november/
LOCATION:Geibelsche Schmiede\, Oberstraße 20\, Darmstadt\, 64297\, Germany
ATTACH;FMTTYPE=image/jpeg:https://www.eberstaedter-buergerverein.de/wp-content/uploads/2024/09/20231028_004852.jpg
END:VEVENT
BEGIN:VEVENT
DTSTART;TZID=Europe/Berlin:20241130T000000
DTEND;TZID=Europe/Berlin:20241201T235959
DTSTAMP:20260425T204800
CREATED:20241009T084017Z
LAST-MODIFIED:20241104T140640Z
UID:697-1732924800-1733097599@www.eberstaedter-buergerverein.de
SUMMARY:Kunstmarkt mit Weihnachtsdorf
DESCRIPTION:Kunstmarkt und Weihnachtsdorf laden in der Geibel’schen Schmiede in Eberstadt zum Verweilen ein\n \nAuch in diesem Jahr laden der Kunstmarkt und das Weihnachtsdorf in der Geibel´schen Schmiede in Eberstadt\, der Heimat des Eberstädter Bürgervereins von 1980 e.V.\, zum Verweilen ein. An allen vier Adventswochenenden öffnet sich das große Hoftor in der Oberstraße 20 von 15 bis 20 Uhr und bietet den großen und kleinen Besuchern die Möglichkeit die vorweihnachtliche Stimmung in vollen Zügen zu genießen. Wer den Kunstmarkt aus den Vorjahren kennt entdeckt viel Altbewährtes wie ein abwechslungsreiches Angebot verschiedener Künstler und Aussteller immer Innen- und Außenbereich sowie den wohlschmeckenden roten und weißen Winzerglühwein. Der Weinkeller der Arbeitsgruppe Weingärtner öffnet seine Pforten und selbstgebackene Kuchen laden in einem kleinen Café im alten Wohnhaus zu einer Verschnaufpause ein. Der Garten verwandelt sich in diesem Jahr wieder in ein Weihnachtsdorf der besonderen Art und bietet neben verschiedenen künstlerischen Angeboten auch kulinarische Genüsse. Im Backhaus können am 7. und 14. Dezember Lebkuchen gebacken werden und auch das Schmiedefeuer wird brennen.  Wie bereits im letzten Jahr hat der Nikolaus  wieder seinen Besuch angekündigt. \nDie Organisatoren des Eberstädter Bürgervereins von 1980 e.V. freuen sich darauf zahlreiche Besucher begrüßen zu dürfen. Ein Besuch lohnt sich auf jeden Fall!
URL:https://www.eberstaedter-buergerverein.de/veranstaltung/kunstmarkt-mit-weihnachtsdorf/
LOCATION:Geibelsche Schmiede\, Oberstraße 20\, Darmstadt\, 64297\, Germany
ATTACH;FMTTYPE=image/jpeg:https://www.eberstaedter-buergerverein.de/wp-content/uploads/2024/10/20241020_211135-1.jpg
END:VEVENT
END:VCALENDAR