BEGIN:VCALENDAR
VERSION:2.0
PRODID:-//Eberstädter Bürgerverein von 1980 e.V. - ECPv6.15.20//NONSGML v1.0//EN
CALSCALE:GREGORIAN
METHOD:PUBLISH
X-WR-CALNAME:Eberstädter Bürgerverein von 1980 e.V.
X-ORIGINAL-URL:https://www.eberstaedter-buergerverein.de
X-WR-CALDESC:Veranstaltungen für Eberstädter Bürgerverein von 1980 e.V.
REFRESH-INTERVAL;VALUE=DURATION:PT1H
X-Robots-Tag:noindex
X-PUBLISHED-TTL:PT1H
BEGIN:VTIMEZONE
TZID:Europe/Berlin
BEGIN:DAYLIGHT
TZOFFSETFROM:+0100
TZOFFSETTO:+0200
TZNAME:CEST
DTSTART:20230326T010000
END:DAYLIGHT
BEGIN:STANDARD
TZOFFSETFROM:+0200
TZOFFSETTO:+0100
TZNAME:CET
DTSTART:20231029T010000
END:STANDARD
BEGIN:DAYLIGHT
TZOFFSETFROM:+0100
TZOFFSETTO:+0200
TZNAME:CEST
DTSTART:20240331T010000
END:DAYLIGHT
BEGIN:STANDARD
TZOFFSETFROM:+0200
TZOFFSETTO:+0100
TZNAME:CET
DTSTART:20241027T010000
END:STANDARD
BEGIN:DAYLIGHT
TZOFFSETFROM:+0100
TZOFFSETTO:+0200
TZNAME:CEST
DTSTART:20250330T010000
END:DAYLIGHT
BEGIN:STANDARD
TZOFFSETFROM:+0200
TZOFFSETTO:+0100
TZNAME:CET
DTSTART:20251026T010000
END:STANDARD
END:VTIMEZONE
BEGIN:VEVENT
DTSTART;TZID=Europe/Berlin:20240914T110000
DTEND;TZID=Europe/Berlin:20240915T180000
DTSTAMP:20260425T233856
CREATED:20240909T192629Z
LAST-MODIFIED:20240912T150931Z
UID:579-1726311600-1726423200@www.eberstaedter-buergerverein.de
SUMMARY:Offenes Atelier 2024
DESCRIPTION:Bereits zum siebten Mal treffen sich Künstler und Handwerker zu einem gemeinsamen Austausch und freuen sich\, Euch daran teilhaben zu lassen. Seid hautnah dabei\, wenn Neues und Ungewöhnliches entsteht. \nAlle unsere ausgestellten Unikate sind kreativ\, einmalig\, detailreich\, mit Liebe gemacht\, positiv inspirierend\, unglaublich und natürlich… käuflich 😉 \n \nFlyer herunterladen
URL:https://www.eberstaedter-buergerverein.de/veranstaltung/offenes-atelier-2024/
LOCATION:Geibelsche Schmiede\, Oberstraße 20\, Darmstadt\, 64297\, Germany
ATTACH;FMTTYPE=image/jpeg:https://www.eberstaedter-buergerverein.de/wp-content/uploads/2024/09/20181021_133615-scaled.jpg
END:VEVENT
BEGIN:VEVENT
DTSTART;TZID=Europe/Berlin:20240921T100000
DTEND;TZID=Europe/Berlin:20240921T150000
DTSTAMP:20260425T233856
CREATED:20240920T085859Z
LAST-MODIFIED:20240920T085859Z
UID:685-1726912800-1726930800@www.eberstaedter-buergerverein.de
SUMMARY:Backtag September
DESCRIPTION:In Eberstadt finden einmal im Monat Backtage für Groß und Klein statt. Alle Besucher/Innen können ihren Teig für Brot\, Brötchen\, Pizza\, Kuchen und andere Leckereien mitbringen und im holzbefeuerten Lehmofen backen. Der Backtag startet um 10 Uhr mit dem Anfeuern des Ofens und den Vorbereitungen. Gegen 12 Uhr wird die Glut zur Seite geschoben und im Ofen kann Pizza und Flammkuchen gebacken werden. Um 13 Uhr hat der Ofen die entsprechende Temperatur erreicht\, Glut und Asche werden entfernt und die Brote können eingeschoben werden. Nach ca. einer Stunde ist das Brot fertig und der Kuchen ist an der Reihe. Um ca. 15 Uhr endet der Backtag. \nDie Leckereien können direkt vor Ort im gemütlichen Garten oder in der überdachten Scheune verzehrt werden. Getränke werden gegen Bezahlung angeboten. Die verschiedenen Teige und Belage sind von den Besucher/Innen mitzubringen. Die Backes-Gruppe wird aber auch zusätzlich Pizzen bzw. Flammkuchen anbieten. \nDie Teilnahme am Backtag ist kostenfrei. Eine Spendenbox steht bereit. Weitere Infos sind unter backes@e-bv.info erhältlich.
URL:https://www.eberstaedter-buergerverein.de/veranstaltung/backtag-september/
LOCATION:Geibelsche Schmiede\, Oberstraße 20\, Darmstadt\, 64297\, Germany
ATTACH;FMTTYPE=image/jpeg:https://www.eberstaedter-buergerverein.de/wp-content/uploads/2024/09/20231028_004852.jpg
END:VEVENT
BEGIN:VEVENT
DTSTART;TZID=Europe/Berlin:20240929T110000
DTEND;TZID=Europe/Berlin:20240929T170000
DTSTAMP:20260425T233856
CREATED:20240916T134450Z
LAST-MODIFIED:20240916T134450Z
UID:680-1727607600-1727629200@www.eberstaedter-buergerverein.de
SUMMARY:Wein in der Schmiede
DESCRIPTION:Der Eberstädter Bürgerverein von 1980 e.V. lädt am Sonntag\, den 29.9.2024 ab 11 Uhr zur Weinübergabe in die Geibel´sche Schmiede (Oberstraße 20 in Eberstadt) ein. Eine langjährige Tradition wird in diesem Jahr fortgesetzt. Ein Weinspender überreicht dem Eberstädter Bürgerverein den Inhalt eines Barrique-Fasses Wein. Die diesjährigen Spender sind Anne und Peter Franz und überreichen Wein eines Weingutes ihrer Wahl. Für das leibliche Wohl sorgt der Club der kochenden Männer der Chuchi Philipp Delp Eberstadt mit einem dem Anlass entsprechenden Winzergulasch. Auch der gespendete Wein darf gekostet werden. \nWeitere Informationen sind unter info@e-bv.info erhältlich.
URL:https://www.eberstaedter-buergerverein.de/veranstaltung/wein-in-der-schmiede/
LOCATION:Geibelsche Schmiede\, Oberstraße 20\, Darmstadt\, 64297\, Germany
END:VEVENT
END:VCALENDAR