BEGIN:VCALENDAR
VERSION:2.0
PRODID:-//Eberstädter Bürgerverein von 1980 e.V. - ECPv6.15.20//NONSGML v1.0//EN
CALSCALE:GREGORIAN
METHOD:PUBLISH
X-WR-CALNAME:Eberstädter Bürgerverein von 1980 e.V.
X-ORIGINAL-URL:https://www.eberstaedter-buergerverein.de
X-WR-CALDESC:Veranstaltungen für Eberstädter Bürgerverein von 1980 e.V.
REFRESH-INTERVAL;VALUE=DURATION:PT1H
X-Robots-Tag:noindex
X-PUBLISHED-TTL:PT1H
BEGIN:VTIMEZONE
TZID:Europe/Berlin
BEGIN:DAYLIGHT
TZOFFSETFROM:+0100
TZOFFSETTO:+0200
TZNAME:CEST
DTSTART:20250330T010000
END:DAYLIGHT
BEGIN:STANDARD
TZOFFSETFROM:+0200
TZOFFSETTO:+0100
TZNAME:CET
DTSTART:20251026T010000
END:STANDARD
BEGIN:DAYLIGHT
TZOFFSETFROM:+0100
TZOFFSETTO:+0200
TZNAME:CEST
DTSTART:20260329T010000
END:DAYLIGHT
BEGIN:STANDARD
TZOFFSETFROM:+0200
TZOFFSETTO:+0100
TZNAME:CET
DTSTART:20261025T010000
END:STANDARD
BEGIN:DAYLIGHT
TZOFFSETFROM:+0100
TZOFFSETTO:+0200
TZNAME:CEST
DTSTART:20270328T010000
END:DAYLIGHT
BEGIN:STANDARD
TZOFFSETFROM:+0200
TZOFFSETTO:+0100
TZNAME:CET
DTSTART:20271031T010000
END:STANDARD
END:VTIMEZONE
BEGIN:VEVENT
DTSTART;TZID=Europe/Berlin:20260502T100000
DTEND;TZID=Europe/Berlin:20260503T180000
DTSTAMP:20260424T183205
CREATED:20251120T193346Z
LAST-MODIFIED:20260414T212854Z
UID:969-1777716000-1777831200@www.eberstaedter-buergerverein.de
SUMMARY:1. Eberstädter Kunst- & Antiquitätentage
DESCRIPTION:  \nAm 2. & 3. Mai finden die ersten Eberstädter Kunst- und Antiquitätentage in der Geibel´schen Schmiede statt. \nWer sich für Kunst\, antiken Schmuck\, Silberwaren\, Briefmarken und Münzen sowie antiquarische Bücher begeistern kann\, kommt hier sicher auf seine Kosten. Auch allerhand Kurioses wird zu finden sein. Gemälde und Zeichnungen namhafter Darmstädter Künstler\, wie von Carl Gunschmann und Wilhelm Loth\, über Eberhard Schlotter bis Daniel Greiner sind für den Kunstbegeisterten sicher einen Besuch wert. \nEs wird ein Rahmenprogramm mit einem interessanten Vortrag und kostenlose Schätzungen von mitgebrachten Münzen\, Schmuck  und Büchern geben. In der historischen Schmiede kann man mitgebrachte Messer schleifen lassen \nAuch für das leibliche Wohl ist gesorgt. \nHaben Sie Interesse an einem Stand oder wünschen Sie weitere Informationen melden Sie sich gerne unter info@e-bv.info.
URL:https://www.eberstaedter-buergerverein.de/veranstaltung/1-eberstaedter-kunst-antiquitaetenmarkt/
LOCATION:Geibelsche Schmiede\, Oberstraße 20\, Darmstadt\, 64297\, Germany
END:VEVENT
BEGIN:VEVENT
DTSTART;TZID=Europe/Berlin:20260523T100000
DTEND;TZID=Europe/Berlin:20260523T150000
DTSTAMP:20260424T183205
CREATED:20251120T165650Z
LAST-MODIFIED:20251120T165650Z
UID:930-1779530400-1779548400@www.eberstaedter-buergerverein.de
SUMMARY:Backtag Mai
DESCRIPTION:In Eberstadt finden einmal im Monat Backtage für Groß und Klein statt. Alle Besucher/Innen können ihren Teig für Brot\, Brötchen\, Pizza\, Kuchen und andere Leckereien mitbringen und im holzbefeuerten Lehmofen backen. Der Backtag startet um 10 Uhr mit dem Anfeuern des Ofens und den Vorbereitungen. Gegen 12 Uhr wird die Glut zur Seite geschoben und im Ofen kann Pizza und Flammkuchen gebacken werden. Um 13 Uhr hat der Ofen die entsprechende Temperatur erreicht\, Glut und Asche werden entfernt und die Brote können eingeschoben werden. Nach ca. einer Stunde ist das Brot fertig und der Kuchen ist an der Reihe. Um ca. 15 Uhr endet der Backtag. \nDie Leckereien können direkt vor Ort im gemütlichen Garten oder in der überdachten Scheune verzehrt werden. Getränke werden gegen Bezahlung angeboten. Die verschiedenen Teige und Belage sind von den Besucher/Innen mitzubringen. Die Backes-Gruppe wird aber auch zusätzlich Pizzen bzw. Flammkuchen anbieten. \nDie Teilnahme am Backtag ist kostenfrei. Eine Spendenbox steht bereit. Weitere Infos sind unter backes@e-bv.info erhältlich.
URL:https://www.eberstaedter-buergerverein.de/veranstaltung/backtag-mai/
LOCATION:Geibelsche Schmiede\, Oberstraße 20\, Darmstadt\, 64297\, Germany
END:VEVENT
BEGIN:VEVENT
DTSTART;TZID=Europe/Berlin:20260627T100000
DTEND;TZID=Europe/Berlin:20260627T150000
DTSTAMP:20260424T183205
CREATED:20251120T165841Z
LAST-MODIFIED:20251120T165841Z
UID:932-1782554400-1782572400@www.eberstaedter-buergerverein.de
SUMMARY:Backtag Juni
DESCRIPTION:In Eberstadt finden einmal im Monat Backtage für Groß und Klein statt. Alle Besucher/Innen können ihren Teig für Brot\, Brötchen\, Pizza\, Kuchen und andere Leckereien mitbringen und im holzbefeuerten Lehmofen backen. Der Backtag startet um 10 Uhr mit dem Anfeuern des Ofens und den Vorbereitungen. Gegen 12 Uhr wird die Glut zur Seite geschoben und im Ofen kann Pizza und Flammkuchen gebacken werden. Um 13 Uhr hat der Ofen die entsprechende Temperatur erreicht\, Glut und Asche werden entfernt und die Brote können eingeschoben werden. Nach ca. einer Stunde ist das Brot fertig und der Kuchen ist an der Reihe. Um ca. 15 Uhr endet der Backtag. \nDie Leckereien können direkt vor Ort im gemütlichen Garten oder in der überdachten Scheune verzehrt werden. Getränke werden gegen Bezahlung angeboten. Die verschiedenen Teige und Belage sind von den Besucher/Innen mitzubringen. Die Backes-Gruppe wird aber auch zusätzlich Pizzen bzw. Flammkuchen anbieten. \nDie Teilnahme am Backtag ist kostenfrei. Eine Spendenbox steht bereit. Weitere Infos sind unter backes@e-bv.info erhältlich.
URL:https://www.eberstaedter-buergerverein.de/veranstaltung/backtag-juni-2/
LOCATION:Geibelsche Schmiede\, Oberstraße 20\, Darmstadt\, 64297\, Germany
END:VEVENT
BEGIN:VEVENT
DTSTART;TZID=Europe/Berlin:20260807T000000
DTEND;TZID=Europe/Berlin:20260810T235959
DTSTAMP:20260424T183205
CREATED:20251120T172426Z
LAST-MODIFIED:20251120T172426Z
UID:946-1786060800-1786406399@www.eberstaedter-buergerverein.de
SUMMARY:Ewwerschter Kerb
DESCRIPTION:Alle Jahre wieder… \n…findet am zweiten Augustwochenende traditionell die „Ewwerschter Kerb“ statt. \nAuf dem Gelände der Geibel´schen Schmiede wird einiges geboten: \n\nWinzerweine an unserem Weinstand im Innenbereich\nBraustüb´l vom Fass\nLeckeres Essen von der Metzgerei Bradtke\n„Quetschekuchen“ mit und ohne Streusel am Kerbsonntag\nViele Sitzmöglichkeiten im Hof und im Garten\n\nNach dem Motto „esse\, trinke\, schwätze“ freuen wir uns zahlreiche Gäste begrüßen zu dürfen. \nEgal\, ob zum gemütlichen Tagesausklang\, zum Frühschoppen oder nach dem Kerweumzug: Unser großes Hoftor ist an allen vier Tagen geöffnet! \n(Freitag von 18-1 Uhr\, Samstag von 17-1 Uhr\, Sonntag von 14-0 Uhr und Montag von 10-0 Uhr)
URL:https://www.eberstaedter-buergerverein.de/veranstaltung/ewwerschter-kerb-2/
LOCATION:Geibelsche Schmiede\, Oberstraße 20\, Darmstadt\, 64297\, Germany
END:VEVENT
BEGIN:VEVENT
DTSTART;TZID=Europe/Berlin:20260822T000000
DTEND;TZID=Europe/Berlin:20260822T235959
DTSTAMP:20260424T183205
CREATED:20251120T175941Z
LAST-MODIFIED:20251120T181906Z
UID:952-1787356800-1787443199@www.eberstaedter-buergerverein.de
SUMMARY:Rock in der Schmiede mit "Eighties Euphoria"
DESCRIPTION:  \nDie Geibelsche Schmiede mit ihrer tollen Atmosphäre\, bei der sich ein einzigartiges bauliches Ambiente mit der Intimität einer Club-Location vereint\, hat über das vergangene Jahr hinweg bewiesen\, dass sie beste Voraussetzungen für ein vielseitiges qualitatives Musikangebot hat. Die bisherigen Konzertveranstaltungen des Eberstädter Bürgervereins erfreuten sich großer Resonanz und schließen eine signifikante lokale Lücke im Bereich Livemusik. Dabei möchte man keine Bühne mit durchgängiger Dauerbeschallung sein\, sondern selektiv Akzente im Jahresablauf setzen ohne dabei die Kontraste etwa zwischen den filigranen Klängen eines Gitarren-Duos und durchschlagendem Grunge-Sound zu scheuen. \nMit Rock in der Schmiede die Magie der 80er erleben?! \nDas geht mit der Band „Eighties Euphoria“ aus Bruchköbel. Ihre energiegeladene Show bringt die größten Hymnen von Mr. Mister\, Whitney Houston\, Madonna & Co zurück auf die Bühne – neu interpretiert mit modernem Twist. Tanzen\, feiern und genießen! \nDas Gastro-Team des Eberstädter Bürgervereins sorgt an diesem Abend wie immer routiniert für kühle Getränke und allerlei leckere Snacks. \nTickets sind zum Preis von 10\,- € an der Abendkasse erhältlich sowie unter info@e-bv.info zur Hinterlegung vorab reservierbar. Die Veranstaltung ist unbestuhlt\, es besteht freie Platzwahl. Die genaue Startzeit wird in Kürze bekannt gegeben.
URL:https://www.eberstaedter-buergerverein.de/veranstaltung/rock-in-der-schmiede-mit-eighties-euphoria/
LOCATION:Geibelsche Schmiede\, Oberstraße 20\, Darmstadt\, 64297\, Germany
END:VEVENT
BEGIN:VEVENT
DTSTART;TZID=Europe/Berlin:20260822T100000
DTEND;TZID=Europe/Berlin:20260822T150000
DTSTAMP:20260424T183205
CREATED:20251120T170134Z
LAST-MODIFIED:20251120T170134Z
UID:934-1787392800-1787410800@www.eberstaedter-buergerverein.de
SUMMARY:Backtag August
DESCRIPTION:In Eberstadt finden einmal im Monat Backtage für Groß und Klein statt. Alle Besucher/Innen können ihren Teig für Brot\, Brötchen\, Pizza\, Kuchen und andere Leckereien mitbringen und im holzbefeuerten Lehmofen backen. Der Backtag startet um 10 Uhr mit dem Anfeuern des Ofens und den Vorbereitungen. Gegen 12 Uhr wird die Glut zur Seite geschoben und im Ofen kann Pizza und Flammkuchen gebacken werden. Um 13 Uhr hat der Ofen die entsprechende Temperatur erreicht\, Glut und Asche werden entfernt und die Brote können eingeschoben werden. Nach ca. einer Stunde ist das Brot fertig und der Kuchen ist an der Reihe. Um ca. 15 Uhr endet der Backtag. \nDie Leckereien können direkt vor Ort im gemütlichen Garten oder in der überdachten Scheune verzehrt werden. Getränke werden gegen Bezahlung angeboten. Die verschiedenen Teige und Belage sind von den Besucher/Innen mitzubringen. Die Backes-Gruppe wird aber auch zusätzlich Pizzen bzw. Flammkuchen anbieten. \nDie Teilnahme am Backtag ist kostenfrei. Eine Spendenbox steht bereit. Weitere Infos sind unter backes@e-bv.info erhältlich.
URL:https://www.eberstaedter-buergerverein.de/veranstaltung/backtag-august-2/
LOCATION:Geibelsche Schmiede\, Oberstraße 20\, Darmstadt\, 64297\, Germany
END:VEVENT
BEGIN:VEVENT
DTSTART;TZID=Europe/Berlin:20260926T100000
DTEND;TZID=Europe/Berlin:20260926T150000
DTSTAMP:20260424T183205
CREATED:20251120T170336Z
LAST-MODIFIED:20251120T170336Z
UID:936-1790416800-1790434800@www.eberstaedter-buergerverein.de
SUMMARY:Backtag September
DESCRIPTION:In Eberstadt finden einmal im Monat Backtage für Groß und Klein statt. Alle Besucher/Innen können ihren Teig für Brot\, Brötchen\, Pizza\, Kuchen und andere Leckereien mitbringen und im holzbefeuerten Lehmofen backen. Der Backtag startet um 10 Uhr mit dem Anfeuern des Ofens und den Vorbereitungen. Gegen 12 Uhr wird die Glut zur Seite geschoben und im Ofen kann Pizza und Flammkuchen gebacken werden. Um 13 Uhr hat der Ofen die entsprechende Temperatur erreicht\, Glut und Asche werden entfernt und die Brote können eingeschoben werden. Nach ca. einer Stunde ist das Brot fertig und der Kuchen ist an der Reihe. Um ca. 15 Uhr endet der Backtag. \nDie Leckereien können direkt vor Ort im gemütlichen Garten oder in der überdachten Scheune verzehrt werden. Getränke werden gegen Bezahlung angeboten. Die verschiedenen Teige und Belage sind von den Besucher/Innen mitzubringen. Die Backes-Gruppe wird aber auch zusätzlich Pizzen bzw. Flammkuchen anbieten. \nDie Teilnahme am Backtag ist kostenfrei. Eine Spendenbox steht bereit. Weitere Infos sind unter backes@e-bv.info erhältlich.
URL:https://www.eberstaedter-buergerverein.de/veranstaltung/backtag-september-3/
LOCATION:Geibelsche Schmiede\, Oberstraße 20\, Darmstadt\, 64297\, Germany
END:VEVENT
BEGIN:VEVENT
DTSTART;TZID=Europe/Berlin:20261011T100000
DTEND;TZID=Europe/Berlin:20261011T150000
DTSTAMP:20260424T183205
CREATED:20251120T195158Z
LAST-MODIFIED:20251120T195158Z
UID:984-1791712800-1791730800@www.eberstaedter-buergerverein.de
SUMMARY:Eberstädter Grenzgang - Wanderung durch die Gemarkung
DESCRIPTION:Der Eberstädter Bürgerverein von 1980 e.V. und die Bezirksverwaltung Eberstadt laden jedes Jahr im Oktober zu einer Wanderung durch die Gemarkung\, den Eberstädter Grenzgang\, ein. Die Wanderung wird von Ludwig Achenbach und Mitgliedern des Eberstädter Bürgervereins begleitet und steht jedes Jahr unter einem anderen Motto. Das Motto für das Jahr 2026 ist aktuell noch in Planung. \nGestartet wird im 10 Uhr am Marktplatz in Eberstadt. \nDie Schlussrast findet im Herzen Eberstadts in der Geibel´schen Schmiede\, statt. Dort kann man sich bei einer heißen Suppe (mit und ohne Würstchen)\, gekocht und serviert vom Roten Kreuz Eberstadt\, und kalten Getränken stärken. \nEine vorherige Anmeldung ist nicht nötig. Teilnehmerkarten mit Verzehrbon für 8 Euro sind  in der Bezirksverwaltung Eberstadt sowie am Start- und Zielort erhältlich.
URL:https://www.eberstaedter-buergerverein.de/veranstaltung/eberstaedter-grenzgang-wanderung-durch-die-gemarkung-2/
LOCATION:Geibelsche Schmiede\, Oberstraße 20\, Darmstadt\, 64297\, Germany
END:VEVENT
BEGIN:VEVENT
DTSTART;TZID=Europe/Berlin:20261017T100000
DTEND;TZID=Europe/Berlin:20261017T150000
DTSTAMP:20260424T183205
CREATED:20251120T170530Z
LAST-MODIFIED:20251120T170530Z
UID:938-1792231200-1792249200@www.eberstaedter-buergerverein.de
SUMMARY:Backtag Oktober
DESCRIPTION:In Eberstadt finden einmal im Monat Backtage für Groß und Klein statt. Alle Besucher/Innen können ihren Teig für Brot\, Brötchen\, Pizza\, Kuchen und andere Leckereien mitbringen und im holzbefeuerten Lehmofen backen. Der Backtag startet um 10 Uhr mit dem Anfeuern des Ofens und den Vorbereitungen. Gegen 12 Uhr wird die Glut zur Seite geschoben und im Ofen kann Pizza und Flammkuchen gebacken werden. Um 13 Uhr hat der Ofen die entsprechende Temperatur erreicht\, Glut und Asche werden entfernt und die Brote können eingeschoben werden. Nach ca. einer Stunde ist das Brot fertig und der Kuchen ist an der Reihe. Um ca. 15 Uhr endet der Backtag. \nDie Leckereien können direkt vor Ort im gemütlichen Garten oder in der überdachten Scheune verzehrt werden. Getränke werden gegen Bezahlung angeboten. Die verschiedenen Teige und Belage sind von den Besucher/Innen mitzubringen. Die Backes-Gruppe wird aber auch zusätzlich Pizzen bzw. Flammkuchen anbieten. \nDie Teilnahme am Backtag ist kostenfrei. Eine Spendenbox steht bereit. Weitere Infos sind unter backes@e-bv.info erhältlich.
URL:https://www.eberstaedter-buergerverein.de/veranstaltung/backtag-oktober-3/
LOCATION:Geibelsche Schmiede\, Oberstraße 20\, Darmstadt\, 64297\, Germany
END:VEVENT
BEGIN:VEVENT
DTSTART;TZID=Europe/Berlin:20261107T190000
DTEND;TZID=Europe/Berlin:20261107T233000
DTSTAMP:20260424T183205
CREATED:20251120T180819Z
LAST-MODIFIED:20251120T181150Z
UID:954-1794078000-1794094200@www.eberstaedter-buergerverein.de
SUMMARY:Rock in der Schmiede mit "Endorphine"
DESCRIPTION:  \nDie Geibelsche Schmiede mit ihrer tollen Atmosphäre\, bei der sich ein einzigartiges bauliches Ambiente mit der Intimität einer Club-Location vereint\, hat über das vergangene Jahr hinweg bewiesen\, dass sie beste Voraussetzungen für ein vielseitiges qualitatives Musikangebot hat. Die bisherigen Konzertveranstaltungen des Eberstädter Bürgervereins erfreuten sich großer Resonanz und schließen eine signifikante lokale Lücke im Bereich Livemusik. Dabei möchte man keine Bühne mit durchgängiger Dauerbeschallung sein\, sondern selektiv Akzente im Jahresablauf setzen ohne dabei die Kontraste etwa zwischen den filigranen Klängen eines Gitarren-Duos und durchschlagendem Grunge-Sound zu scheuen. \nDie ENDORPHINE zelebrieren unter dem Motto „Hören. Fühlen. Feiern.“ die Hits und Perlen aus Rock & Pop von den 70er Jahren bis zur Neuzeit. Das in Groß-Umstadt beheimatete Septett – dort befindet sich der Proberaum – besteht aus einer bunten Mischung von Musikern aus dem Rhein-Main-Gebiet. Dennoch versteht man sich primär als Darmstädter Band: Der Hauptaktionsradius liegt bisher in der Region und ein guter Teil der Musiker hat hier auch seine Wurzeln. In den vergangenen zwei Jahren sorgten die ENDORPHINE insbesondere auf Darmstädter Veranstaltungen vermehrt öffentlich für Aufsehen und konnten eine stetig wachsende Zuhörerschaft für sich begeistern. \nDas Gastro-Team des Eberstädter Bürgervereins sorgt an diesem Abend wie immer routiniert für kühle Getränke und allerlei leckere Snacks. \nTickets sind zum Preis von 10\,- € an der Abendkasse erhältlich sowie unter info@e-bv.info zur Hinterlegung vorab reservierbar. Die Veranstaltung beginnt um 20:00 Uhr (Einlass ab 19:00 Uhr) und ist unbestuhlt\, es besteht freie Platzwahl.
URL:https://www.eberstaedter-buergerverein.de/veranstaltung/rock-in-der-schmiede-mit-endorphine/
LOCATION:Geibelsche Schmiede\, Oberstraße 20\, Darmstadt\, 64297\, Germany
END:VEVENT
BEGIN:VEVENT
DTSTART;TZID=Europe/Berlin:20261121T100000
DTEND;TZID=Europe/Berlin:20261121T150000
DTSTAMP:20260424T183205
CREATED:20251120T170710Z
LAST-MODIFIED:20251120T170710Z
UID:940-1795255200-1795273200@www.eberstaedter-buergerverein.de
SUMMARY:Backtag November
DESCRIPTION:In Eberstadt finden einmal im Monat Backtage für Groß und Klein statt. Alle Besucher/Innen können ihren Teig für Brot\, Brötchen\, Pizza\, Kuchen und andere Leckereien mitbringen und im holzbefeuerten Lehmofen backen. Der Backtag startet um 10 Uhr mit dem Anfeuern des Ofens und den Vorbereitungen. Gegen 12 Uhr wird die Glut zur Seite geschoben und im Ofen kann Pizza und Flammkuchen gebacken werden. Um 13 Uhr hat der Ofen die entsprechende Temperatur erreicht\, Glut und Asche werden entfernt und die Brote können eingeschoben werden. Nach ca. einer Stunde ist das Brot fertig und der Kuchen ist an der Reihe. Um ca. 15 Uhr endet der Backtag. \nDie Leckereien können direkt vor Ort im gemütlichen Garten oder in der überdachten Scheune verzehrt werden. Getränke werden gegen Bezahlung angeboten. Die verschiedenen Teige und Belage sind von den Besucher/Innen mitzubringen. Die Backes-Gruppe wird aber auch zusätzlich Pizzen bzw. Flammkuchen anbieten. \nDie Teilnahme am Backtag ist kostenfrei. Eine Spendenbox steht bereit. Weitere Infos sind unter backes@e-bv.info erhältlich.
URL:https://www.eberstaedter-buergerverein.de/veranstaltung/backtag-november-3/
LOCATION:Geibelsche Schmiede\, Oberstraße 20\, Darmstadt\, 64297\, Germany
END:VEVENT
BEGIN:VEVENT
DTSTART;TZID=Europe/Berlin:20261128T000000
DTEND;TZID=Europe/Berlin:20261129T235959
DTSTAMP:20260424T183205
CREATED:20251120T193831Z
LAST-MODIFIED:20251120T194159Z
UID:972-1795824000-1795996799@www.eberstaedter-buergerverein.de
SUMMARY:Kunstmarkt mit Weihnachtsdorf
DESCRIPTION:  \nWie in jedem Jahr laden der Kunstmarkt und das Weihnachtsdorf in der Geibel´schen Schmiede in Eberstadt\, der Heimat des Eberstädter Bürgervereins von 1980 e.V.\, zum Verweilen ein. An allen vier Adventswochenenden öffnet sich das große Hoftor in der Oberstraße 20 von 15 bis 20 Uhr und bietet den großen und kleinen Besuchern die Möglichkeit die vorweihnachtliche Stimmung in vollen Zügen zu genießen. Wer den Kunstmarkt aus den Vorjahren kennt entdeckt viel Altbewährtes wie ein abwechslungsreiches Angebot verschiedener Künstler und Aussteller immer Innen- und Außenbereich sowie den wohlschmeckenden roten und weißen Winzerglühwein. Der Weinkeller der Arbeitsgruppe Weingärtner öffnet seine Pforten und selbstgebackene Kuchen laden in einem kleinen Café im alten Wohnhaus zu einer Verschnaufpause ein. Der Garten verwandelt sich wieder in ein Weihnachtsdorf der besonderen Art und bietet neben verschiedenen künstlerischen Angeboten auch kulinarische Genüsse. Im Backhaus können Lebkuchen gebacken werden und auch das Schmiedefeuer wird brennen.  Wie bereits im letzten Jahr hat der Nikolaus  wieder seinen Besuch angekündigt. \n 
URL:https://www.eberstaedter-buergerverein.de/veranstaltung/kunstmarkt-mit-weihnachtsdorf-9/
LOCATION:Geibelsche Schmiede\, Oberstraße 20\, Darmstadt\, 64297\, Germany
END:VEVENT
BEGIN:VEVENT
DTSTART;TZID=Europe/Berlin:20261205T000000
DTEND;TZID=Europe/Berlin:20261206T235959
DTSTAMP:20260424T183205
CREATED:20251120T194410Z
LAST-MODIFIED:20251120T194410Z
UID:978-1796428800-1796601599@www.eberstaedter-buergerverein.de
SUMMARY:Kunstmarkt mit Weihnachtsdorf
DESCRIPTION:  \nWie in jedem Jahr laden der Kunstmarkt und das Weihnachtsdorf in der Geibel´schen Schmiede in Eberstadt\, der Heimat des Eberstädter Bürgervereins von 1980 e.V.\, zum Verweilen ein. An allen vier Adventswochenenden öffnet sich das große Hoftor in der Oberstraße 20 von 15 bis 20 Uhr und bietet den großen und kleinen Besuchern die Möglichkeit die vorweihnachtliche Stimmung in vollen Zügen zu genießen. Wer den Kunstmarkt aus den Vorjahren kennt entdeckt viel Altbewährtes wie ein abwechslungsreiches Angebot verschiedener Künstler und Aussteller immer Innen- und Außenbereich sowie den wohlschmeckenden roten und weißen Winzerglühwein. Der Weinkeller der Arbeitsgruppe Weingärtner öffnet seine Pforten und selbstgebackene Kuchen laden in einem kleinen Café im alten Wohnhaus zu einer Verschnaufpause ein. Der Garten verwandelt sich wieder in ein Weihnachtsdorf der besonderen Art und bietet neben verschiedenen künstlerischen Angeboten auch kulinarische Genüsse. Im Backhaus können Lebkuchen gebacken werden und auch das Schmiedefeuer wird brennen.  Wie bereits im letzten Jahr hat der Nikolaus  wieder seinen Besuch angekündigt. \n 
URL:https://www.eberstaedter-buergerverein.de/veranstaltung/kunstmarkt-mit-weihnachtsdorf-10/
LOCATION:Geibelsche Schmiede\, Oberstraße 20\, Darmstadt\, 64297\, Germany
END:VEVENT
BEGIN:VEVENT
DTSTART;TZID=Europe/Berlin:20261212T000000
DTEND;TZID=Europe/Berlin:20261213T235959
DTSTAMP:20260424T183205
CREATED:20251120T194543Z
LAST-MODIFIED:20251120T194543Z
UID:980-1797033600-1797206399@www.eberstaedter-buergerverein.de
SUMMARY:Kunstmarkt mit Weihnachtsdorf
DESCRIPTION:  \nWie in jedem Jahr laden der Kunstmarkt und das Weihnachtsdorf in der Geibel´schen Schmiede in Eberstadt\, der Heimat des Eberstädter Bürgervereins von 1980 e.V.\, zum Verweilen ein. An allen vier Adventswochenenden öffnet sich das große Hoftor in der Oberstraße 20 von 15 bis 20 Uhr und bietet den großen und kleinen Besuchern die Möglichkeit die vorweihnachtliche Stimmung in vollen Zügen zu genießen. Wer den Kunstmarkt aus den Vorjahren kennt entdeckt viel Altbewährtes wie ein abwechslungsreiches Angebot verschiedener Künstler und Aussteller immer Innen- und Außenbereich sowie den wohlschmeckenden roten und weißen Winzerglühwein. Der Weinkeller der Arbeitsgruppe Weingärtner öffnet seine Pforten und selbstgebackene Kuchen laden in einem kleinen Café im alten Wohnhaus zu einer Verschnaufpause ein. Der Garten verwandelt sich wieder in ein Weihnachtsdorf der besonderen Art und bietet neben verschiedenen künstlerischen Angeboten auch kulinarische Genüsse. Im Backhaus können Lebkuchen gebacken werden und auch das Schmiedefeuer wird brennen.  Wie bereits im letzten Jahr hat der Nikolaus  wieder seinen Besuch angekündigt. \n 
URL:https://www.eberstaedter-buergerverein.de/veranstaltung/kunstmarkt-mit-weihnachtsdorf-11/
LOCATION:Geibelsche Schmiede\, Oberstraße 20\, Darmstadt\, 64297\, Germany
END:VEVENT
BEGIN:VEVENT
DTSTART;TZID=Europe/Berlin:20261219T000000
DTEND;TZID=Europe/Berlin:20261220T235959
DTSTAMP:20260424T183205
CREATED:20251120T194720Z
LAST-MODIFIED:20251120T194720Z
UID:982-1797638400-1797811199@www.eberstaedter-buergerverein.de
SUMMARY:Kunstmarkt mit Weihnachtsdorf
DESCRIPTION:  \nWie in jedem Jahr laden der Kunstmarkt und das Weihnachtsdorf in der Geibel´schen Schmiede in Eberstadt\, der Heimat des Eberstädter Bürgervereins von 1980 e.V.\, zum Verweilen ein. An allen vier Adventswochenenden öffnet sich das große Hoftor in der Oberstraße 20 von 15 bis 20 Uhr und bietet den großen und kleinen Besuchern die Möglichkeit die vorweihnachtliche Stimmung in vollen Zügen zu genießen. Wer den Kunstmarkt aus den Vorjahren kennt entdeckt viel Altbewährtes wie ein abwechslungsreiches Angebot verschiedener Künstler und Aussteller immer Innen- und Außenbereich sowie den wohlschmeckenden roten und weißen Winzerglühwein. Der Weinkeller der Arbeitsgruppe Weingärtner öffnet seine Pforten und selbstgebackene Kuchen laden in einem kleinen Café im alten Wohnhaus zu einer Verschnaufpause ein. Der Garten verwandelt sich wieder in ein Weihnachtsdorf der besonderen Art und bietet neben verschiedenen künstlerischen Angeboten auch kulinarische Genüsse. Im Backhaus können Lebkuchen gebacken werden und auch das Schmiedefeuer wird brennen.  Wie bereits im letzten Jahr hat der Nikolaus  wieder seinen Besuch angekündigt. \n 
URL:https://www.eberstaedter-buergerverein.de/veranstaltung/kunstmarkt-mit-weihnachtsdorf-12/
LOCATION:Geibelsche Schmiede\, Oberstraße 20\, Darmstadt\, 64297\, Germany
END:VEVENT
END:VCALENDAR